Workbook
Name _2003년도_직원보수_일람표__실로암육아원: [1]직원보수일람표!$A$1+[1]직원보수일람표!$T$1
Name _2003년도_직원보수_일람표__실로암육아원: [2]직원보수일람표!$A$1+[2]직원보수일람표!$T$1
Name 수입지출예산총괄_양로원: 수입지출예산총괄2014년!$B$1
Name 수입지출예산총괄_양로원: #REF!
Name 에벤직원보수일람표: [3]직원보수일람표!$A$1+[3]직원보수일람표!$T$1

Sheet 수입지출예산총괄2014년
B1: 수입지출예산총괄(에벤에셀노인요양원)
J3: (단위 : 천원)
B4: 수입 | G4: 지출
B5: 구분(관) | C5: 2013예산 | D5: 2014예산 | E5: 증 | F5: 감 | G5: 구분(관) | H5: 2013예산 | I5: 2014예산 | J5: 증 | K5: 감
B6: 1.입소자부담금 | C6: 156132 | D6: 282736 | E6: 0 | F6: =ABS(D6-C6) -> 126604 | G6: 1. 사무비 | H6: 881776 | I6: 979061 | J6: =ABS(I6-H6) -> 97285 | K6: 0
B7: 2. 사업수입 | C7: 0 | D7: 0 | E7: 0 | F7: 0 | G7: 2. 재산조성비 | H7: 25460 | I7: 35448 | J7: 0 | K7: =ABS(I7-H7) -> 9988
B8: 4. 보조금수입 | C8: 112505 | D8: 136471 | E8: 0 | F8: =ABS(D8-C8) -> 23966 | G8: 3. 사업비 | H8: 142768 | I8: 226199 | J8: 0 | K8: =ABS(I8-H8) -> 83431
B9: 5. 후원금수입 | C9: 12293 | D9: 7200 | E9: =ABS(D9-C9) -> 5093 | F9: 0 | G9: 6. 상환금 | H9: 0 | I9: 0 | J9: =ABS(I9-H9) -> 0 | K9: 0
G10: 7. 잡지출 | H10: 0 | I10: 0 | J10: =ABS(I10-H10) -> 0 | K10: 0
B11: 6. 요양급여수입 | C11: 752087 | D11: 836861 | E11: 0 | F11: =ABS(D11-C11) -> 84774 | G11: 8. 예비비 | H11: 0 | I11: 0 | J11: =ABS(I11-H11) -> 0 | K11: 0
B12: 8. 전입금 | C12: 0 | D12: 600 | E12: =ABS(D12-C12) -> 600 | F12: 0 | G12: 9. 적립금 | H12: 0 | I12: 0 | J12: =ABS(I12-H12) -> 0 | K12: 0
B13: 9. 이월금 | C13: 5501 | D13: 0 | E13: =ABS(D13-C13) -> 5501 | F13: 0 | G13: 10. 준비금 | H13: 0 | I13: 36000 | J13: 0 | K13: =ABS(I13-H13) -> 36000
B14: 10. 잡수익 | C14: 11486 | D14: 12840 | E14: =ABS(D14-C14) -> 1354 | F14: 0 | H14: 0 | I14: 0 | J14: =ABS(I14-H14) -> 0 | K14: 0
B15: 계 | C15: =SUM(C6:C14) -> 1050004 | D15: =SUM(D6:D14) -> 1276708 | E15: =SUM(E6:E14) -> 12548 | F15: =SUM(F6:F14) -> 235344 | G15: 계 | H15: =SUM(H6:H14) -> 1050004 | I15: =SUM(I6:I14) -> 1276708 | J15: =SUM(J6:J14) -> 97285 | K15: =SUM(K6:K14) -> 129419

Sheet 세입예산2014(60명기준)
A1: 세입예산명세서
A2: 가. 수입예산
A3: (단위 : 원)
A4: 과 목 | G4: 전년도 | H4: 당해연도 | I4: 증 ∇감 | K4: 산 출 근 거
A5: 관 | C5: 항 | E5: 목 | G5: 예산액(2013) | H5: 예산액(2014)
A6: 계 | G6: =G7+G18+G21+G63+G66+G69+G46+G53 -> 1050005127 | H6: =H7+H18+H21+H63+H66+H69+H46+H53 -> 1276708990 | J6: =ABS(H6-G6) -> 226703863
A7: 1 | B7: 입소자부담금수입 | G7: =G8 -> 156132130 | H7: =H8 -> 282735570 | J7: =ABS(H7-G7) -> 126603440
C8: 11 | D8: 입소비용수입 | G8: =G9+G10+G14+G16+G17 -> 156132130 | H8: =H9+H10+H14+H16+H17 -> 282735570 | J8: =ABS(H8-G8) -> 126603440
E9: 111 | F9: 입소비용수입 | G9: 0 | H9: 0 | J9: =H9-G9 -> 0
E10: 112 | F10: 본인부담금수입 | G10: 105816560 | H10: 167760570 | J10: =ABS(H10-G10) -> 61944010 | K10: o 본인부담금(167,760,570)
K11: 1등급52,640*365일*1명*20%=3,842,720
K12: 2등급48,850*365일*10명*20%=35,660,500
K13: 3등급45,050*365일*39명*20%=128,257,350
E14: 113 | F14: 식재료비수입 | G14: 50315570 | H14: 114975000 | J14: =H14-G14 -> 64659430 | K14: o 식재료비(114,975,000)
K15: 1일6,300원*365일*50명=114,975,000
E16: 114 | F16: 상급침실이용료 | G16: 0 | H16: 0 | J16: 0
E17: 115 | F17: 이미용비 | G17: 0 | H17: 0 | J17: 0
A18: 2 | B18: 사업수입 | G18: =G19 -> 0 | H18: =H19 -> 0 | J18: =ABS(H18-G18) -> 0
C19: 21 | D19: 사업수입 | G19: =G20 -> 0 | H19: =H20 -> 0 | J19: =ABS(H19-G19) -> 0
E20: 211 | F20: 자체사업수입 | G20: 0 | H20: 0 | J20: =ABS(H20-G20) -> 0
A21: 4 | B21: 보조금수입 | G21: =G22+G35 -> 112505080 | H21: =H22+H35 -> 136471640 | J21: =ABS(G21-H21) -> 23966560
C22: 41 | D22: 보조금수입 | E22: 411 | F22: 경상보조금수입 | G22: 37697330 | H22: 24539640 | J22: =ABS(G22-H22) -> 13157690 | K22: o 특별위로금(549,800)
K23: 27,490×2회×10명=549,800
K24: o 월동대책비(266,480)
A25: (단위 : 원)
A26: 과 목 | G26: 당해연도 | H26: 당해연도 | I26: 증 ∇감 | K26: 산 출 기 초
A27: 관 | C27: 항 | E27: 목 | G27: 예산액(2013) | H27: 예산액(2014)
K28: 26,648×1회×10명=266,480
K29: o 동내의(191,000)
K30: 19,189×1회×10명=191,890
K31: o 장의비(750,000)
K32: 750,000×1명=750,000
K33: o 주,부식비(22,782,360)
K34: 189,853×12회×10명=22,782,360
E35: 412 | F35: 기타보조금수입 | G35: 74807750 | H35: 111932000 | J35: =ABS(G35-H35) -> 37124250 | K35: o 지역종사자수당 및 명절격려금(88,400,000)
K36: 원장외 33명 200,000×12회×34명=81,600,000
K37: 원장외 33명 100,000×2회×34명=6,800,000
K38: o 본인부담분지원금(22,320,000)
K39: 60,000×12회×31명=22,320,000
K40: o 춘, 추계부식비(200)
...

Sheet 세출예산2014(60명기준)
A1: 세출예산명세서
A2: 나. 지출예산
A3: (단위 : 원)
A4: 과 목 | G4: 전년도 | H4: 당해연도 | I4: 증 ∇감 | K4: 산 출 기 초
A5: 관 | C5: 항 | E5: 목 | G5: 예산액(2013) | H5: 예산액(2014)
A6: 계 | G6: =G7+G84+G92+G138+G141+G145+G148+G151 -> 1050005127 | H6: =H7+H84+H92+H138+H141+H145+H148+H151 -> 1276708990 | J6: =ABS(H6-G6) -> 226703863
A7: 1 | B7: 사무비 | G7: =G8+G57+G61 -> 881776687 | H7: =H8+H57+H61 -> 979061460 | J7: =ABS(H7-G7) -> 97284773
C8: 11 | D8: 인건비 | G8: =G9+G18+G19+G20+G38+G44+G53 -> 807826606 | H8: =H9+H18+H19+H20+H38+H44+H53 -> 902147900 | J8: =ABS(H8-G8) -> 94321294
E9: 111 | F9: 급 여 | G9: 351126584 | H9: 411600000 | J9: =ABS(H9-G9) -> 60473416 | K9: o 급여(411,600,000)
K10: 원장 1명 × 2,300,000 × 12월 = 27,600,000
K11: 사무국장 1명 × 1,400,000× 12월 = 16,800,000
K12: 사회복지사 2명 × 1,100,000× 12월 = 26,400,000
K13: 간호사 1명 × 1,300,000 ×12월 = 15,600,000
K14: 간호조무사 1명 × 1,200,000 ×12월 = 14,400,000
K15: 물리치료사 2명 × 1,300,000 × 12월 = 31,200,000
K16: 영양사 1명 × 1,200,000 × 12월 = 14,400,000
K17: 요양보호사(조리원) 26명 × 850,000 × 12월 = 265,200,000
E18: 112 | F18: 상여금 | G18: 0 | H18: 0 | I18: ▽ | J18: =ABS(H18-G18) -> 0
E19: 113 | F19: 일용잡급 | G19: 3779500 | H19: 0 | J19: -
E20: 114 | F20: 제수당 | G20: 320271792 | H20: 333600000 | I20: ▽ | J20: =ABS(G20-H20) -> 13328208 | K20: o 공단처우개선비(40,800,000)
K21: 매월(34명) 3,400,000 × 12회 = 40,800,000
K22: o 직책보조비(19,200,000)
K23: 매월(14명) 1,600,000 × 12회 = 19,200,000
K24: o 휴일근무수당(26,400,000)
K25: 2,200,000 × 12회 = 26,400,000
K26: o 조정수당(33,600,000)
K27: 2,800,000 × 12회 = 33,600,000
K28: o 연장근로수당(105,600,000)
K29: 매월(34명) 8,800,000 × 12회 = 105,600,000
K30: o 야간근로수당(21,600,000)
K31: 매월(18명) 1,800,000 × 12회 = 21,600,000
K32: o 자격수당(6,000,000)
... K37: 원장외 31명 200,000×12회×32명=76,800,000
E38: 115 | F38: 퇴직금 및 | G38: 65236070 | H38: 75100000 | J38: =ABS(G38-H38) -> 9863930 | K38: o 퇴직적립금(75,100,000)
F39: 퇴직적립금 | K39: 745,200,000 ÷ 12회 = 62,100,000(미충당퇴직금13,000,000)
A41: (단위 : 원)
A42: 과 목 | G42: 전년도 | H42: 당해연도 | I42: 증 ∇감 | K42: 산 출 기 초
A43: 관 | C43: 항 | E43: 목 | G43: 예산액(2013) | H43: 예산액(2014)
E44: 116 | F44: 사회보험 | G44: 55080110 | H44: 66247900 | J44: =ABS(G44-H44) -> 11167790 | K44: o 국민건강보험료(23,026,300)
F45: 부담비용 | K45: 745,200,000 × 0.029 = 21,610,800
...

Sheet 보수일람완료
A3: 2014년 임.직원 보수일람표
B5: 성명 | C5: 급여 | D5: 종사자수당 | E5: 처우개선비 | F5: 근속수당 | G5: 자격수당 | H5: 직책보조비 | I5: 연장근무수당 | J5: 야간근무수당 | K5: 휴일근무수당 | L5: 조정수당 | M5: 퇴직적립금 | N5: 합계
A6: 1 | B6: 원장 | C6: =[4]보수일람기초!C6*12 -> 27600000 | D6: =[4]보수일람기초!D6*12 -> 2400000 | E6: =[4]보수일람기초!E6*12 -> 1200000 | F6: =[4]보수일람기초!F6*12 -> 240000 | G6: =[4]보수일람기초!G6*12 -> 600000 | H6: =[4]보수일람기초!H6*12 -> 1200000 | I6: =[4]보수일람기초!I6*12 -> 4320000 | J6: =[4]보수일람기초!J6*12 -> 0 | ... M6: =[4]보수일람기초!M6*12 -> 3240000 | N6: =SUM(C6:M6) -> 42972000
A7: 2 | B7: 사무국장 | C7: =[4]보수일람기초!C7*12 -> 14400000 | D7: =[4]보수일람기초!D7*12 -> 2400000 | E7: =[4]보수일람기초!E7*12 -> 1200000 | F7: =[4]보수일람기초!F7*12 -> 240000 | G7: =[4]보수일람기초!G7*12 -> 0 | H7: =[4]보수일람기초!H7*12 -> 3960000 | I7: =[4]보수일람기초!I7*12 -> 2760000 | J7: =[4]보수일람기초!J7*12 -> 0 | ... M7: =[4]보수일람기초!M7*12 -> 2280000 | N7: =SUM(C7:M7) -> 30264000
A8: 3 | B8: 사회복지사 | C8: =[4]보수일람기초!C8*12*2 -> 19920000 | D8: =[4]보수일람기초!D8*12*2 -> 4800000 | E8: =[4]보수일람기초!E8*12*2 -> 2400000 | F8: =[4]보수일람기초!F8*12*2 -> 480000 | G8: =[4]보수일람기초!G8*12*2 -> 1200000 | H8: =[4]보수일람기초!H8*12*2 -> 7680000 | I8: =[4]보수일람기초!I8*12*2 -> 5040000 | J8: =[4]보수일람기초!J8*12*2 -> 0 | ... M8: =[4]보수일람기초!M8*12*2 -> 3672000 | N8: =SUM(C8:M8) -> 47664000
A9: 4 | B9: 간호사 | C9: =[4]보수일람기초!C9*12 -> 15600000 | D9: =[4]보수일람기초!D9*12 -> 2400000 | E9: =[4]보수일람기초!E9*12 -> 1200000 | F9: =[4]보수일람기초!F9*12 -> 240000 | G9: =[4]보수일람기초!G9*12 -> 600000 | H9: =[4]보수일람기초!H9*12 -> 5400000 | I9: =[4]보수일람기초!I9*12 -> 2760000 | J9: =[4]보수일람기초!J9*12 -> 0 | ... M9: =[4]보수일람기초!M9*12 -> 2004000 | N9: =SUM(C9:M9) -> 31560000
A10: 5 | B10: 간호조무사 | C10: =[4]보수일람기초!C10*12 -> 13200000 | D10: =[4]보수일람기초!D10*12 -> 2400000 | E10: =[4]보수일람기초!E10*12 -> 1200000 | F10: =[4]보수일람기초!F10*12 -> 0 | G10: =[4]보수일람기초!G10*12 -> 960000 | H10: =[4]보수일람기초!H10*12 -> 3840000 | I10: =[4]보수일람기초!I10*12 -> 2640000 | J10: =[4]보수일람기초!J10*12 -> 0 | ... M10: =[4]보수일람기초!M10*12 -> 1920000 | N10: =SUM(C10:M10) -> 27432000
A11: 6 | B11: 물리치료사 | C11: =[4]보수일람기초!C11*12 -> 15600000 | D11: =[4]보수일람기초!D11*12 -> 2400000 | E11: =[4]보수일람기초!E11*12 -> 1200000 | F11: =[4]보수일람기초!F11*12 -> 240000 | G11: =[4]보수일람기초!G11*12 -> 600000 | H11: =[4]보수일람기초!H11*12 -> 5640000 | I11: =[4]보수일람기초!I11*12 -> 0 | J11: =[4]보수일람기초!J11*12 -> 0 | ... M11: =[4]보수일람기초!M11*12 -> 2316000 | N11: =SUM(C11:M11) -> 30036000
A12: 7 | B12: 영양사 | C12: =[4]보수일람기초!C12*12 -> 12000000 | D12: =[4]보수일람기초!D12*12 -> 2400000 | E12: =[4]보수일람기초!E12*12 -> 1200000 | F12: =[4]보수일람기초!F12*12 -> 0 | G12: =[4]보수일람기초!G12*12 -> 600000 | H12: =[4]보수일람기초!H12*12 -> 5640000 | I12: =[4]보수일람기초!I12*12 -> 0 | J12: =[4]보수일람기초!J12*12 -> 0 | K12: 130000 | L12: =[4]보수일람기초!L12*12 -> 4440000 | M12: =[4]보수일람기초!M12*12 -> 1896000 | N12: =SUM(C12:M12) -> 28306000
A13: 8 | B13: 요양보호사 | C13: =[4]보수일람기초!C13*12*26 -> 265200000 | D13: =[4]보수일람기초!D13*12*26 -> 62400000 | E13: =[4]보수일람기초!E13*12*26 -> 31200000 | F13: =[4]보수일람기초!F13*12*26 -> 6240000 | G13: =[4]보수일람기초!G13*12*26 -> 0 | H13: =[4]보수일람기초!H13*12*26 -> 0 | I13: =[4]보수일람기초!I13*12*26 -> 90480000 | J13: =[4]보수일람기초!J13*12*26 -> 34320000 | ... M13: =[4]보수일람기초!M13*12*26 -> 44304000 | N13: =SUM(C13:M13) -> 581256000
C14: =SUM(C6:C13) -> 383520000 | D14: =SUM(D6:D13) -> 81600000 | E14: =SUM(E6:E13) -> 40800000 | F14: =SUM(F6:F13) -> 7680000 | G14: =SUM(G6:G13) -> 4560000 | H14: =SUM(H6:H13) -> 33360000 | I14: =SUM(I6:I13) -> 108000000 | J14: =SUM(J6:J13) -> 34320000 | ... M14: =SUM(M6:M13) -> 61632000 | N14: =SUM(C14:M14) -> 819490000

Sheet Sheet1

Sheet Sheet2

Sheet Sheet3
