Workbook

Sheet 2013세입세출예산안총괄표
A2: 2013년도 에벤에셀복지재단 세입·세출 결산 총괄표
A5: 구분 | B5: 세입 | E5: 구분 | F5: 세출
B6: 12예산(a) | C6: 12결산(b) | D6: 증감 (a)-(b) | F6: 12예산(a) | G6: 12결산(b) | H6: 증감 (a)-(b)
A7: 재산수입 | B7: =법인세입결산내역서!H9 -> 10511322 | C7: =법인세입결산내역서!H10 -> 10511322 | D7: =B7-C7 -> 0 | E7: 사무비 | F7: =법인세출내역서!H9 -> 3035530 | G7: =법인세출내역서!H10 -> 3035530 | H7: =F7-G7 -> 0
A8: 사업수입 | B8: =법인세입결산내역서!H27 -> 0 | C8: =법인세입결산내역서!H28 -> 0 | D8: =B8-C8 -> 0 | E8: 재산조성비 | F8: =법인세출내역서!H69 -> 15598653 | G8: =법인세출내역서!H70 -> 15237800 | H8: =F8-G8 -> 360853
A9: 과년도수입 | B9: =법인세입결산내역서!H36 -> 0 | C9: =법인세입결산내역서!H37 -> 0 | D9: =B9-C9 -> 0 | E9: 사업비 | F9: =법인세출내역서!H84 -> 0 | G9: =법인세출내역서!H85 -> 0 | H9: =F9-G9 -> 0
A10: 보조금수입 | B10: =법인세입결산내역서!H45 -> 0 | C10: =법인세입결산내역서!H46 -> 0 | D10: =B10-C10 -> 0 | E10: 전출금 | F10: =법인세출내역서!H99 -> 0 | G10: =법인세출내역서!H100 -> 0 | H10: =F10-G10 -> 0
A11: 후원금 | B11: =법인세입결산내역서!H66 -> 844000 | C11: =법인세입결산내역서!H67 -> 844000 | D11: =B11-C11 -> 0 | E11: 과년도지출 | F11: =법인세출내역서!H108 -> 0 | G11: =법인세출내역서!H109 -> 0 | H11: =F11-G11 -> 0
A12: 전입금 | B12: =법인세입결산내역서!H87 -> 0 | C12: =법인세입결산내역서!H88 -> 0 | D12: =B12-C12 -> 0 | E12: 상환금 | F12: =법인세출내역서!H117 -> 0 | G12: =법인세출내역서!H118 -> 0 | H12: =F12-G12 -> 0
A13: 이월금 | B13: =법인세입결산내역서!H96 -> 5274964 | C13: =법인세입결산내역서!H97 -> 5274964 | D13: =B13-C13 -> 0 | E13: 잡지출 | F13: =법인세출내역서!H129 -> 0 | G13: =법인세출내역서!H130 -> 0 | H13: =F13-G13 -> 0
A14: 잡수입 | B14: =법인세입결산내역서!H111 -> 2003897 | C14: =법인세입결산내역서!H112 -> 2007395 | D14: =B14-C14 -> -3498 | E14: 예비비 | F14: =법인세출내역서!H138 -> 0 | G14: =법인세출내역서!H139 -> 0 | H14: =F14-G14 -> 0
A15: 세입합계 | B15: =SUM(B7:B14) -> 18634183 | C15: =법인세입결산내역서!H7 -> 18637681 | D15: =B15-C15 -> -3498 | E15: 세출합계 | F15: =SUM(F7:F14) -> 18634183 | G15: =법인세출내역서!H7 -> 18273330 | H15: =F15-G15 -> 360853
A16: 총 계 | B16: 세입결산액(A) | E16: 총계 | F16: 세출결산액(B)
B17: =C15 -> 18637681 | F17: =G15 -> 18273330
A18: 이 월 액 (A) - (B) | E18: =B17-F17 -> 364351

Sheet 법인세입결산내역서
A2: 2013년 사회복지법인 에벤에셀 세입 결산서
A4: 과목 | D4: 구분 | E4: 시,군,구비 | F4: 자부담 | G4: 후원금 | H4: 계
A5: 관 | B5: 항 | C5: 목
A6: 총 계 | D6: 예산 | E6: =E9+E27+E36+E45+E78+E87+E96+E111+E66 -> 0 | F6: =F9+F27+F36+F45+F66+F78+F87+F96+F111 -> 17790183 | G6: =G9+G27+G36+G45+G78+G87+G96+G111+G66 -> 844000 | H6: =SUM(E6:G6) -> 18634183
D7: 결산 | E7: =E10+E28+E37+E46+E79+E88+E97+E112+E67 -> 0 | F7: =F10+F28+F37+F46+F79+F88+F97+F112+F67 -> 17793681 | G7: =G10+G28+G37+G46+G79+G88+G97+G112+G67 -> 844000 | H7: =SUM(E7:G7) -> 18637681
D8: 증감 | E8: =E11+E29+E38+E47+E80+E89+E98+E113+E68 -> 0 | F8: =F6-F7 -> -3498 | G8: =G6-G7 -> 0 | H8: =H6-H7 -> -3498
A9: 기본재산 수입 | B9: 합 계 | D9: 예산 | E9: =E12 -> 0 | F9: =F12 -> 10511322 | G9: =G12 -> 0 | H9: =H12 -> 10511322
D10: 결산 | E10: 0 | F10: =F13 -> 10511322 | G10: =G13 -> 0 | H10: =H13 -> 10511322
D11: 증감 | E11: =E9-E10 -> 0 | F11: =F9-F10 -> 0 | G11: =G9-G10 -> 0 | H11: =H9-H10 -> 0
B12: 기본재산수입 | C12: 합 계 | D12: 예산 | E12: =E15+E18+E21+E24 -> 0 | F12: =F15+F18+F21+F24 -> 10511322 | G12: =G15+G18+G21+G24 -> 0 | H12: =H15+H18+H21+H24 -> 10511322
D13: 결산 | E13: =E16+E19+E22+E25 -> 0 | F13: =F16+F19+F22+F25 -> 10511322 | G13: =G16+G19+G22+G25 -> 0 | H13: =H16+H19+H22+H25 -> 10511322
D14: 증감 | E14: =E12-E13 -> 0 | F14: =F12-F13 -> 0 | G14: =G12-G13 -> 0 | H14: =H12-H13 -> 0
C15: 임대료수입 | D15: 예산 | E15: 0 | G15: 0 | H15: =E15+F15+G15 -> 0
D16: 결산 | E16: 0 | G16: 0 | H16: =E16+F16+G16 -> 0
D17: 증감 | E17: =E15-E16 -> 0 | G17: =G15-G16 -> 0 | H17: =E17+F17+G17 -> 0
C18: 배당및이자 수입 | D18: 예산 | E18: 0 | F18: 10511322 | G18: 0 | H18: =E18+F18+G18 -> 10511322
D19: 결산 | E19: 0 | F19: 10511322 | G19: 0 | H19: =E19+F19+G19 -> 10511322
D20: 증감 | E20: =E19-E18 -> 0 | G20: =G18-G19 -> 0 | H20: =H18-H19 -> 0
C21: 기타예금이자수입 | D21: 예산 | E21: 0 | G21: 0 | H21: =E21+F21+G21 -> 0
D22: 결산 | E22: 0 | G22: 0 | H22: =E22+F22+G22 -> 0
D23: 증감 | E23: =E21-E22 -> 0 | G23: =G21-G22 -> 0 | H23: =E23+F23+G23 -> 0
C24: 기타수입 | D24: 예산 | E24: 0 | G24: 0 | H24: =E24+F24+G24 -> 0
D25: 결산 | E25: 0 | G25: 0 | H25: =E25+F25+G25 -> 0
D26: 증감 | E26: =E24-E25 -> 0 | G26: =G24-G25 -> 0 | H26: =H24-H25 -> 0
A27: 사업수입 | B27: 합 계 | D27: 예산 | E27: =E30 -> 0 | F27: =F30 -> 0 | G27: =G30 -> 0 | H27: =H30 -> 0
D28: 결산 | E28: 0 | F28: =F31 -> 0 | G28: =G31 -> 0 | H28: =H31 -> 0
D29: 증감 | E29: =E27-E28 -> 0 | F29: =F27-F28 -> 0 | G29: =G27-G28 -> 0 | H29: =E29+F29 -> 0
B30: 사업수익 | C30: 합계 | D30: 예산 | E30: =E33 -> 0 | F30: =F33 -> 0 | G30: =G33 -> 0 | H30: =H33 -> 0
D31: 결산 | E31: =E34 -> 0 | F31: =F34 -> 0 | G31: =G34 -> 0 | H31: =H34 -> 0
D32: 증감 | E32: =E30-E31 -> 0 | F32: =F30-F31 -> 0 | G32: =G30-G31 -> 0 | H32: =E32+F32 -> 0
C33: 수익사업수익 | D33: 예산 | E33: 0 | G33: 0 | H33: =E33+F33 -> 0
D34: 결산 | E34: 0 | G34: 0 | H34: =E34+F34 -> 0
D35: 증감 | E35: =E33-E34 -> 0 | G35: =G33-G34 -> 0 | H35: =E35+F35 -> 0
A36: 과년도수입 | B36: 합 계 | D36: 예산 | E36: =E39 -> 0 | F36: =F39 -> 0 | G36: =G39 -> 0 | H36: =H39 -> 0
D37: 결산 | E37: 0 | F37: =F40 -> 0 | G37: =G40 -> 0 | H37: =H40 -> 0
D38: 증감 | E38: =E36-E37 -> 0 | F38: =F36-F37 -> 0 | G38: =G36-G37 -> 0 | H38: =E38+F38 -> 0
B39: 과년도수입 | C39: 합계 | D39: 예산 | E39: =E42 -> 0 | F39: =F42 -> 0 | G39: =G42 -> 0 | H39: =H42 -> 0
D40: 결산 | E40: =E43 -> 0 | F40: =F43 -> 0 | G40: =G43 -> 0 | H40: =H43 -> 0
D41: 증감 | E41: =E39-E40 -> 0 | F41: =F39-F40 -> 0 | G41: =G39-G40 -> 0 | H41: =E41+F41 -> 0
C42: 과년도수입 | D42: 예산 | E42: 0 | G42: 0 | H42: =E42+F42 -> 0
...

Sheet 법인세출내역서
A2: 2013년 사회복지법인 에벤에셀 세출 결산서
A4: 과목 | D4: 구분 | E4: 시,군,구비 | F4: 자부담 | G4: 후원금 | H4: 계
A5: 관 | B5: 항 | C5: 목
A6: 총 계 | D6: 예산 | E6: =E9+E69+E84+E99+E108+E117+E129+E138 -> 0 | F6: =F9+F69+F84+F99+F108+F117+F129+F138 -> 17790183 | G6: =G9+G69+G84+G99+G108+G117+G129+G138 -> 0 | H6: =H9+H69+H84+H99+H108+H117+H129+H138 -> 18634183
D7: 결산 | E7: =E10+E70+E85+E100+E109+E118+E130+E139 -> 0 | F7: =F10+F70+F85+F100+F109+F118+F130+F139 -> 17429330 | G7: =G10+G70+G85+G100+G109+G118+G130+G139 -> 0 | H7: =H10+H70+H85+H100+H109+H118+H130+H139 -> 18273330
D8: 증감 | E8: =E6-E7 -> 0 | F8: =F6-F7 -> 360853 | G8: =G6-G7 -> 0 | H8: =H6-H7 -> 360853
A9: 사무비 | B9: 합 계 | D9: 예산 | E9: =E12+E36+E48 -> 0 | F9: =F12+F36+F48 -> 3035530 | H9: =H12+H36+H48 -> 3035530
D10: 결산 | E10: =E13+E37+E49 -> 0 | F10: =F13+F37+F49 -> 3035530 | G10: =G13+G37+G49 -> 0 | H10: =H13+H37+H49 -> 3035530
D11: 증감 | E11: =E9-E10 -> 0 | F11: =F9-F10 -> 0 | G11: =G9-G10 -> 0 | H11: =H9-H10 -> 0
B12: 인건비 | C12: 합 계 | D12: 예산 | E12: =E15+E18+E21+E24+E27+E30+E33 -> 0 | F12: =F15+F18+F21+F24+F27+F30+F33 -> 0 | G12: =G15+G18+G21+G24+G27+G30+G33 -> 0 | H12: =H15+H18+H21+H24+H27+H30+H33 -> 0
D13: 결산 | E13: =E16+E19+E22+E25+E28+E31+E34 -> 0 | F13: =F16+F19+F22+F25+F28+F31+F34 -> 0 | G13: =G16+G19+G22+G25+G28+G31+G34 -> 0 | H13: =H16+H19+H22+H25+H28+H31+H34 -> 0
D14: 증감 | E14: =E12-E13 -> 0 | F14: =F12-F13 -> 0 | G14: =G12-G13 -> 0 | H14: =E14+F14 -> 0
C15: 급여 | D15: 예산 | E15: 0 | F15: 0 | G15: 0 | H15: =E15+F15+G15 -> 0
D16: 결산 | E16: 0 | F16: 0 | G16: 0 | H16: =E16+F16+G16 -> 0
D17: 증감 | E17: =E15-E16 -> 0 | F17: =F15-F16 -> 0 | G17: =G15-G16 -> 0 | H17: =E17+F17+G17 -> 0
C18: 상여금 | D18: 예산 | E18: 0 | F18: 0 | G18: 0 | H18: =E18+F18+G18 -> 0
D19: 결산 | E19: 0 | F19: 0 | G19: 0 | H19: =E19+F19+G19 -> 0
D20: 증감 | E20: 0 | F20: =F18-F19 -> 0 | G20: =G18-G19 -> 0 | H20: =E20+F20+G20 -> 0
C21: 일용잡급 | D21: 예산 | E21: 0 | F21: 0 | G21: 0 | H21: =E21+F21+G21 -> 0
D22: 결산 | E22: 0 | F22: 0 | G22: 0 | H22: =E22+F22+G22 -> 0
D23: 증감 | E23: =E21-E22 -> 0 | F23: =F21-F22 -> 0 | G23: =G21-G22 -> 0 | H23: =E23+F23+G23 -> 0
C24: 제수당 | D24: 예산 | E24: 0 | F24: 0 | G24: 0 | H24: =E24+F24+G24 -> 0
D25: 결산 | E25: 0 | F25: 0 | G25: 0 | H25: =E25+F25+G25 -> 0
D26: 증감 | E26: =E24-E25 -> 0 | F26: =F24-F25 -> 0 | G26: =G24-G25 -> 0 | H26: =E26+F26+G26 -> 0
C27: 퇴직적립금 | D27: 예산 | E27: 0 | F27: 0 | G27: 0 | H27: =E27+F27+G27 -> 0
D28: 결산 | E28: 0 | F28: 0 | G28: 0 | H28: =E28+F28+G28 -> 0
D29: 증감 | E29: =E27-E28 -> 0 | F29: =F27-F28 -> 0 | G29: =G27-G28 -> 0 | H29: =E29+F29+G29 -> 0
C30: 사회보험 부담금 | D30: 예산 | F30: 0 | G30: 0 | H30: =E30+F30+G30 -> 0
D31: 결산 | E31: 0 | F31: 0 | G31: 0 | H31: =E31+F31+G31 -> 0
D32: 증감 | E32: =E30-E31 -> 0 | F32: =F30-F31 -> 0 | G32: =G30-G31 -> 0 | H32: =E32+F32+G32 -> 0
C33: 기타후생경비 | D33: 예산 | E33: 0 | F33: 0 | H33: =E33+F33+G33 -> 0
D34: 결산 | E34: 0 | F34: 0 | H34: =E34+F34+G34 -> 0
D35: 증감 | E35: =E33-E34 -> 0 | F35: =F33-F34 -> 0 | G35: =G33-G34 -> 0 | H35: =E35+F35+G35 -> 0
A36: 사무비 | B36: 업무 추진비 | C36: 합계 | D36: 예산 | E36: =E39+E42+E45 -> 0 | F36: =F39+F42+F45 -> 708100 | H36: =H39+H42+H45 -> 708100
D37: 결산 | E37: =E40+E43+E46 -> 0 | F37: =F40+F43+F46 -> 708100 | G37: =G46 -> 0 | H37: =H40+H43+H46 -> 708100
D38: 증감 | E38: =E36-E37 -> 0 | F38: =F36-F37 -> 0 | G38: =G36-G37 -> 0 | H38: =H36-H37 -> 0
C39: 기관운영비 | D39: 예산 | E39: 0 | F39: 708100 | G39: 0 | H39: =E39+F39+G39 -> 708100
D40: 결산 | E40: 0 | F40: 708100 | G40: 0 | H40: =E40+F40+G40 -> 708100
D41: 증감 | E41: =E39-E40 -> 0 | F41: =F39-F40 -> 0 | G41: 0 | H41: =H39-H40 -> 0
C42: 직책보조비 | D42: 예산 | E42: 0 | F42: 0 | G42: 0 | H42: =E42+F42+G42 -> 0
...

Sheet 과목전용조서
A2: 과 목 전 용 조 서
A4: 과 목 | D4: 전 용 연월일 | E4: 예산액 (1) | F4: 전용액 (2) | G4: 예산현액 (1+2=3) | H4: 지출액 (4) | I4: 불용액 (3-4) | J4: 전 용 사 유
A5: 관 | B5: 항 | C5: 목
A7: 해 당 사 항 없 음

Sheet 예비비사용조서
A2: 예 비 비 사 용 조 서
A4: 사용일자 | B4: 금 액 | C4: 사 유 | D4: 사용내역 | E4: 비 고
A6: 해 당 사 항 없 음

Sheet 재산명세서
A2: 기본재산수입명세서
A4: 구분 | B4: 재산종류 | C4: 수량(㎡) | D4: 평가액 | E4: 수입액 | F4: 산출기초 | G4: 비고
A5: 기본재산(토지)소계 | C5: 2013.69 | D5: 319675000 | E5: =D5 -> 319675000 | F5: 감정평가서 의거
A6: 기본재산(현금)소계 | C6: 1 | D6: 300000000 | E6: =D6 -> 300000000 | F6: 정기예금
A7: 기본재산 (증가) | B7: 건물(요양원신축) | C7: 2013.69 | D7: 2013600000 | E7: 2013600000 | F7: 감정평가서 의거 | G7: 변동
A8: 배당 및 이자수입(2013년) | C8: 1 | D8: 10511322 | E8: 10511322 | F8: 정기예금에 대한 이자 | G8: 변동
A9: 기본재산 합계 | D9: =SUM(D5:D8) -> 2643786322 | E9: =D9 -> 2643786322

Sheet 사업수입명세서
A2: 사 업 수 입 명 세 서
A4: 사 업 종 류 | B4: 내 역 | C4: 금 액 | D4: 산 출 내 역 | E4: 비고
A6: 해 당 사 항 없 음
A30: 합 계

Sheet 정부보조금명세서
A2: 정 부 보 조 금 명 세 서
A4: 수령일 | B4: 보조구분 | C4: 보조내역 | D4: 금액 | E4: 보조기관 | F4: 산출기초
A6: 해 당 사 항 없 음
A23: 합 계 | D23: =SUM(D5:D22) -> 0

Sheet 인건비명세서
A2: 인 건 비 명 세 서
A4: 구 분 | B4: 금 액 | C4: 산 출 내 역 | D4: 비 고
A6: 해 당 사 항 없 음

Sheet 사업비명세서
A2: 사 업 비 명 세 서
A4: 구 분 | B4: 내 역 | C4: 금 액 | D4: 산 출 내 역 | E4: 비 고
A6: 해 당 사 항 없 음

Sheet 기타비용명세서
A2: 기타 비용 명세서
A4: 구 분 | B4: 내 역 | C4: 금 액 | D4: 산 출 내 역 | E4: 비 고
A5: 사무비 | B5: 기관운영비 | C5: 490000
B6: 여비 | C6: 572100
B7: 수용비 및 수수료 | C7: 937100
B8: 공공요금 | C8: 478100 | D8: 전화료
A9: 재산조성비 | B9: 시설비 | C9: 14249430
A10: 합계 | C10: =SUM(C5:C9) -> 16726730
C11: 이하여백
A26: 총 계 | C26: =SUM(C5:C25) -> 33453460

Sheet 현금및예금명세서
A1: 2013년 현금 및 예금 명세서
A3: No | B3: 계정명 | C3: 거래처명 | D3: 전일잔액 | E3: 차 변 | F3: 대 변 | G3: 금일잔액
A4: 1 | C4: 농협 (법인후원금) | D4: 195 | E4: 0 | F4: 0 | G4: 195
A5: 2 | C5: 농협 (운영통장) | D5: 5274769 | E5: 13362717 | F5: 18273330 | G5: =D5+E5-F5 -> 364156
A6: 총 계 | D6: =SUM(D4:D5) -> 5274964 | E6: =SUM(E4:E5) -> 13362717 | F6: =SUM(F4:F5) -> 18273330 | G6: =G4+G5 -> 364351
